BEGIN:VCALENDAR
VERSION:2.0
PRODID:-//Venice Beach - ECPv4.5.12.2//NONSGML v1.0//EN
CALSCALE:GREGORIAN
METHOD:PUBLISH
X-WR-CALNAME:Venice Beach
X-ORIGINAL-URL:http://thevenicebeachbar.com
X-WR-CALDESC:Events for Venice Beach
BEGIN:VEVENT
DTSTART;TZID=America/Los_Angeles:20171201T200000
DTEND;TZID=America/Los_Angeles:20171201T230000
DTSTAMP:20260422T232732
CREATED:20171027T221717Z
LAST-MODIFIED:20171027T221739Z
UID:3231-1512158400-1512169200@thevenicebeachbar.com
SUMMARY:Absoulute
DESCRIPTION:
URL:http://thevenicebeachbar.com/event/absolute/
END:VEVENT
END:VCALENDAR