BEGIN:VCALENDAR
VERSION:2.0
PRODID:-//Venice Beach - ECPv4.5.12.2//NONSGML v1.0//EN
CALSCALE:GREGORIAN
METHOD:PUBLISH
X-WR-CALNAME:Venice Beach
X-ORIGINAL-URL:http://thevenicebeachbar.com
X-WR-CALDESC:Events for Venice Beach
BEGIN:VEVENT
DTSTART;TZID=America/Los_Angeles:20180602T200000
DTEND;TZID=America/Los_Angeles:20180602T230000
DTSTAMP:20260423T041545
CREATED:20180620T004758Z
LAST-MODIFIED:20180620T004758Z
UID:3457-1527969600-1527980400@thevenicebeachbar.com
SUMMARY:Broken Stems
DESCRIPTION:
URL:http://thevenicebeachbar.com/event/broken-stems/
END:VEVENT
END:VCALENDAR