BEGIN:VCALENDAR
VERSION:2.0
PRODID:-//Venice Beach - ECPv4.5.12.2//NONSGML v1.0//EN
CALSCALE:GREGORIAN
METHOD:PUBLISH
X-WR-CALNAME:Venice Beach
X-ORIGINAL-URL:http://thevenicebeachbar.com
X-WR-CALDESC:Events for Venice Beach
BEGIN:VEVENT
DTSTART;TZID=America/Los_Angeles:20171027T200000
DTEND;TZID=America/Los_Angeles:20171027T230000
DTSTAMP:20260422T202800
CREATED:20171027T221013Z
LAST-MODIFIED:20171027T221013Z
UID:3221-1509134400-1509145200@thevenicebeachbar.com
SUMMARY:Dave Cavalier Trio
DESCRIPTION:Blues/Rock Band based out of Hollywood\, guaranteed to make you get up on your feet and feel the soul of this Trio. \n
URL:http://thevenicebeachbar.com/event/dave-cavalier-trio/
END:VEVENT
END:VCALENDAR