BEGIN:VCALENDAR
VERSION:2.0
PRODID:-//Venice Beach - ECPv4.5.12.2//NONSGML v1.0//EN
CALSCALE:GREGORIAN
METHOD:PUBLISH
X-WR-CALNAME:Venice Beach
X-ORIGINAL-URL:http://thevenicebeachbar.com
X-WR-CALDESC:Events for Venice Beach
BEGIN:VEVENT
DTSTART;TZID=America/Los_Angeles:20171208T200000
DTEND;TZID=America/Los_Angeles:20171208T230000
DTSTAMP:20260423T005018
CREATED:20171110T005536Z
LAST-MODIFIED:20171110T005536Z
UID:3243-1512763200-1512774000@thevenicebeachbar.com
SUMMARY:Dawgtown Posse
DESCRIPTION:Local Venice Beach Band with Lead Guitarist Stephen McGrath from Billy Idol \n
URL:http://thevenicebeachbar.com/event/dawgtown-posse/
END:VEVENT
END:VCALENDAR