BEGIN:VCALENDAR
VERSION:2.0
PRODID:-//Venice Beach - ECPv4.5.12.2//NONSGML v1.0//EN
CALSCALE:GREGORIAN
METHOD:PUBLISH
X-WR-CALNAME:Venice Beach
X-ORIGINAL-URL:http://thevenicebeachbar.com
X-WR-CALDESC:Events for Venice Beach
BEGIN:VEVENT
DTSTART;TZID=America/Los_Angeles:20171118T200000
DTEND;TZID=America/Los_Angeles:20171118T230000
DTSTAMP:20260422T215732
CREATED:20171027T221606Z
LAST-MODIFIED:20171027T221606Z
UID:3229-1511035200-1511046000@thevenicebeachbar.com
SUMMARY:Dogtown All Stars/ Skeeters Pool Party
DESCRIPTION:
URL:http://thevenicebeachbar.com/event/dogtown-all-stars-skeeters-pool-party/
END:VEVENT
END:VCALENDAR