BEGIN:VCALENDAR
VERSION:2.0
PRODID:-//Venice Beach - ECPv4.5.12.2//NONSGML v1.0//EN
CALSCALE:GREGORIAN
METHOD:PUBLISH
X-WR-CALNAME:Venice Beach
X-ORIGINAL-URL:http://thevenicebeachbar.com
X-WR-CALDESC:Events for Venice Beach
BEGIN:VEVENT
DTSTART;TZID=America/Los_Angeles:20171028T160000
DTEND;TZID=America/Los_Angeles:20171028T190000
DTSTAMP:20260422T203129
CREATED:20171027T221239Z
LAST-MODIFIED:20171027T221239Z
UID:3225-1509206400-1509217200@thevenicebeachbar.com
SUMMARY:Ginger Merkin
DESCRIPTION:
URL:http://thevenicebeachbar.com/event/ginger-merkin/
END:VEVENT
END:VCALENDAR