BEGIN:VCALENDAR
VERSION:2.0
PRODID:-//Venice Beach - ECPv4.5.12.2//NONSGML v1.0//EN
CALSCALE:GREGORIAN
METHOD:PUBLISH
X-WR-CALNAME:Venice Beach
X-ORIGINAL-URL:http://thevenicebeachbar.com
X-WR-CALDESC:Events for Venice Beach
BEGIN:VEVENT
DTSTART;TZID=America/Los_Angeles:20171031T052000
DTEND;TZID=America/Los_Angeles:20171031T202000
DTSTAMP:20260423T003619
CREATED:20171027T222203Z
LAST-MODIFIED:20171027T222203Z
UID:3238-1509427200-1509481200@thevenicebeachbar.com
SUMMARY:Houston Astros vs LA Dodgers
DESCRIPTION:Game 6 Live at VBB \nWear a Dodgers Hat or Shirt and receive 15% off your bill \n
URL:http://thevenicebeachbar.com/event/houston-astros-vs-la-dodgers/
END:VEVENT
END:VCALENDAR