BEGIN:VCALENDAR
VERSION:2.0
PRODID:-//Venice Beach - ECPv4.5.12.2//NONSGML v1.0//EN
CALSCALE:GREGORIAN
METHOD:PUBLISH
X-WR-CALNAME:Venice Beach
X-ORIGINAL-URL:http://thevenicebeachbar.com
X-WR-CALDESC:Events for Venice Beach
BEGIN:VEVENT
DTSTART;TZID=America/Los_Angeles:20170925T170000
DTEND;TZID=America/Los_Angeles:20170925T220000
DTSTAMP:20260422T190731
CREATED:20170909T001847Z
LAST-MODIFIED:20170909T001847Z
UID:3212-1506358800-1506376800@thevenicebeachbar.com
SUMMARY:Monday Night Football
DESCRIPTION:\n\n\n\n\nDallas \n\n\n\nArizona \n\n5:30 PM\n\n\n\n
URL:http://thevenicebeachbar.com/event/monday-night-football-2/
END:VEVENT
END:VCALENDAR