BEGIN:VCALENDAR
VERSION:2.0
PRODID:-//Venice Beach - ECPv4.5.12.2//NONSGML v1.0//EN
CALSCALE:GREGORIAN
METHOD:PUBLISH
X-WR-CALNAME:Venice Beach
X-ORIGINAL-URL:http://thevenicebeachbar.com
X-WR-CALDESC:Events for Venice Beach
BEGIN:VEVENT
DTSTART;TZID=UTC+0:20180811T160000
DTEND;TZID=UTC+0:20180811T233000
DTSTAMP:20260425T190404
CREATED:20180715T234724Z
LAST-MODIFIED:20180715T234724Z
UID:3546-1534003200-1534030200@thevenicebeachbar.com
SUMMARY:Private Event
DESCRIPTION:The Bar will do its last seating at 4pm due to an evening private event. \n
URL:http://thevenicebeachbar.com/event/private-event/
END:VEVENT
END:VCALENDAR