BEGIN:VCALENDAR
VERSION:2.0
PRODID:-//Venice Beach - ECPv4.5.12.2//NONSGML v1.0//EN
CALSCALE:GREGORIAN
METHOD:PUBLISH
X-WR-CALNAME:Venice Beach
X-ORIGINAL-URL:http://thevenicebeachbar.com
X-WR-CALDESC:Events for Venice Beach
BEGIN:VEVENT
DTSTART;TZID=America/Los_Angeles:20170916T190000
DTEND;TZID=America/Los_Angeles:20170916T220000
DTSTAMP:20260422T161310
CREATED:20170908T202659Z
LAST-MODIFIED:20170908T202659Z
UID:3179-1505588400-1505599200@thevenicebeachbar.com
SUMMARY:Profetic Calaveras
DESCRIPTION:a Latin fusion band that incorporates elements of Jazz\, R&B\, Hip-Hop\, Reggae and Funk as well as other styles of music to bring you an eclectic new sound. started this project in December 2016 and played first show in Harlem\, NY.\nOur website is www.profeticcalaveras.com\nfacebook: www.facebook.com/profeticcalaveras/\nyoutube: www.youtube.com/watch?v=9ztphLIfj20&t=22s\n\n\n
URL:http://thevenicebeachbar.com/event/profetic-calaveras/
LOCATION:323 Ocean Front Walk\, Venice Beach\, CA\, 90291\, United States
END:VEVENT
END:VCALENDAR