BEGIN:VCALENDAR
VERSION:2.0
PRODID:-//Venice Beach - ECPv4.5.12.2//NONSGML v1.0//EN
CALSCALE:GREGORIAN
METHOD:PUBLISH
X-WR-CALNAME:Venice Beach
X-ORIGINAL-URL:http://thevenicebeachbar.com
X-WR-CALDESC:Events for Venice Beach
BEGIN:VEVENT
DTSTART;TZID=America/Los_Angeles:20171111T200000
DTEND;TZID=America/Los_Angeles:20171111T230000
DTSTAMP:20260422T232829
CREATED:20171109T233432Z
LAST-MODIFIED:20171109T233432Z
UID:3241-1510430400-1510441200@thevenicebeachbar.com
SUMMARY:Running Hot Band
DESCRIPTION:Rolling Stones Tribute Band \n
URL:http://thevenicebeachbar.com/event/running-hot-band/
END:VEVENT
END:VCALENDAR