BEGIN:VCALENDAR
VERSION:2.0
PRODID:-//Venice Beach - ECPv4.5.12.2//NONSGML v1.0//EN
CALSCALE:GREGORIAN
METHOD:PUBLISH
X-WR-CALNAME:Venice Beach
X-ORIGINAL-URL:http://thevenicebeachbar.com
X-WR-CALDESC:Events for Venice Beach
BEGIN:VEVENT
DTSTART;TZID=America/Los_Angeles:20180715T160000
DTEND;TZID=America/Los_Angeles:20180715T190000
DTSTAMP:20260425T172936
CREATED:20180620T005439Z
LAST-MODIFIED:20180620T005439Z
UID:3475-1531670400-1531681200@thevenicebeachbar.com
SUMMARY:Skeeters Pool Party
DESCRIPTION:
URL:http://thevenicebeachbar.com/event/skeeters-pool-party-2/
END:VEVENT
END:VCALENDAR