BEGIN:VCALENDAR
VERSION:2.0
PRODID:-//Venice Beach - ECPv4.5.12.2//NONSGML v1.0//EN
CALSCALE:GREGORIAN
METHOD:PUBLISH
X-WR-CALNAME:Venice Beach
X-ORIGINAL-URL:http://thevenicebeachbar.com
X-WR-CALDESC:Events for Venice Beach
BEGIN:VEVENT
DTSTART;TZID=America/Los_Angeles:20180622T200000
DTEND;TZID=America/Los_Angeles:20180622T230000
DTSTAMP:20260425T132942
CREATED:20180620T005236Z
LAST-MODIFIED:20180620T005236Z
UID:3469-1529697600-1529708400@thevenicebeachbar.com
SUMMARY:Subject to Change Band
DESCRIPTION:
URL:http://thevenicebeachbar.com/event/subject-to-change-band/
END:VEVENT
END:VCALENDAR