BEGIN:VCALENDAR
VERSION:2.0
PRODID:-//Venice Beach - ECPv4.5.12.2//NONSGML v1.0//EN
CALSCALE:GREGORIAN
METHOD:PUBLISH
X-WR-CALNAME:Venice Beach
X-ORIGINAL-URL:http://thevenicebeachbar.com
X-WR-CALDESC:Events for Venice Beach
BEGIN:VEVENT
DTSTART;TZID=America/Los_Angeles:20180720T200000
DTEND;TZID=America/Los_Angeles:20180720T230000
DTSTAMP:20260425T184709
CREATED:20180628T214056Z
LAST-MODIFIED:20180628T214056Z
UID:3520-1532116800-1532127600@thevenicebeachbar.com
SUMMARY:The Black Tongued Bells
DESCRIPTION:Come experience a night of Rock and Roll with The  Black Tongued Bells.  There is no cover charge so get here early to get a seat.  The is going to be a show you wont forget. \n
URL:http://thevenicebeachbar.com/event/the-black-tongued-bells/
END:VEVENT
END:VCALENDAR